BEGIN:VCALENDAR
VERSION:2.0
PRODID:-//Alpha First Medical Academy - ECPv6.15.20//NONSGML v1.0//EN
CALSCALE:GREGORIAN
METHOD:PUBLISH
X-WR-CALNAME:Alpha First Medical Academy
X-ORIGINAL-URL:https://www.alphafirstmed.com
X-WR-CALDESC:Events for Alpha First Medical Academy
REFRESH-INTERVAL;VALUE=DURATION:PT1H
X-Robots-Tag:noindex
X-PUBLISHED-TTL:PT1H
BEGIN:VTIMEZONE
TZID:America/Los_Angeles
BEGIN:DAYLIGHT
TZOFFSETFROM:-0800
TZOFFSETTO:-0700
TZNAME:PDT
DTSTART:20240310T100000
END:DAYLIGHT
BEGIN:STANDARD
TZOFFSETFROM:-0700
TZOFFSETTO:-0800
TZNAME:PST
DTSTART:20241103T090000
END:STANDARD
BEGIN:DAYLIGHT
TZOFFSETFROM:-0800
TZOFFSETTO:-0700
TZNAME:PDT
DTSTART:20250309T100000
END:DAYLIGHT
BEGIN:STANDARD
TZOFFSETFROM:-0700
TZOFFSETTO:-0800
TZNAME:PST
DTSTART:20251102T090000
END:STANDARD
BEGIN:DAYLIGHT
TZOFFSETFROM:-0800
TZOFFSETTO:-0700
TZNAME:PDT
DTSTART:20260308T100000
END:DAYLIGHT
BEGIN:STANDARD
TZOFFSETFROM:-0700
TZOFFSETTO:-0800
TZNAME:PST
DTSTART:20261101T090000
END:STANDARD
BEGIN:DAYLIGHT
TZOFFSETFROM:-0800
TZOFFSETTO:-0700
TZNAME:PDT
DTSTART:20270314T100000
END:DAYLIGHT
BEGIN:STANDARD
TZOFFSETFROM:-0700
TZOFFSETTO:-0800
TZNAME:PST
DTSTART:20271107T090000
END:STANDARD
END:VTIMEZONE
BEGIN:VEVENT
DTSTART;TZID=America/Los_Angeles:20260113T100000
DTEND;TZID=America/Los_Angeles:20260113T180000
DTSTAMP:20260425T113853
CREATED:20251221T222635Z
LAST-MODIFIED:20251221T222635Z
UID:1771-1768298400-1768327200@www.alphafirstmed.com
SUMMARY:CE: CNA 8 Hour CEU Credit
DESCRIPTION:Topics: Bathing with dignity for CNAs\, prevention of urinary tract infections\, care of patient’s with UTIs\, foley care
URL:https://www.alphafirstmed.com/event/ce-cna-8-hour-ceu-credit-106/
LOCATION:Petaluma California – Alpha First Medical Academy\, 1129 Industrial Avenue\, Suite #207\, Petaluma\, CA 94952
CATEGORIES:CE: CNA 8 Hour Class
ATTACH;FMTTYPE=image/png:https://www.alphafirstmed.com/wp-content/uploads/2022/12/eafe72_f4f8a80bb2e24e8dbed7102710a71cea_mv2.png
ORGANIZER;CN="Alpha First Medical Academy":MAILTO:info@alphafirstmed.com
END:VEVENT
BEGIN:VEVENT
DTSTART;TZID=America/Los_Angeles:20260112T100000
DTEND;TZID=America/Los_Angeles:20260112T180000
DTSTAMP:20260425T113853
CREATED:20251221T222404Z
LAST-MODIFIED:20251221T222404Z
UID:1769-1768212000-1768240800@www.alphafirstmed.com
SUMMARY:CE: CNA 8 Hour CEU Credit
DESCRIPTION:Topics: Interpersonal skills review pertaining to CNAs\, effective communication with CNA and resident\, effective communication with CNA and nurse\, pain management: non-pharmacological interventions\, pain management: acute vs chronic pain\, pain management: reporting pain to nurse
URL:https://www.alphafirstmed.com/event/ce-cna-8-hour-ceu-credit-105/
LOCATION:Petaluma California – Alpha First Medical Academy\, 1129 Industrial Avenue\, Suite #207\, Petaluma\, CA 94952
CATEGORIES:CE: CNA 8 Hour Class
ATTACH;FMTTYPE=image/png:https://www.alphafirstmed.com/wp-content/uploads/2022/12/eafe72_f4f8a80bb2e24e8dbed7102710a71cea_mv2.png
ORGANIZER;CN="Alpha First Medical Academy":MAILTO:info@alphafirstmed.com
END:VEVENT
BEGIN:VEVENT
DTSTART;TZID=America/Los_Angeles:20260111T100000
DTEND;TZID=America/Los_Angeles:20260111T180000
DTSTAMP:20260425T113853
CREATED:20251221T222215Z
LAST-MODIFIED:20251221T222215Z
UID:1767-1768125600-1768154400@www.alphafirstmed.com
SUMMARY:CE: CNA 8 Hour CEU Credit
DESCRIPTION:Topics: Change of Condition\, ADL documentation\, accurate documentation of meal intake/percentage\, care plan review pertaining to CNAs
URL:https://www.alphafirstmed.com/event/ce-cna-8-hour-ceu-credit-104/
LOCATION:Petaluma California – Alpha First Medical Academy\, 1129 Industrial Avenue\, Suite #207\, Petaluma\, CA 94952
CATEGORIES:CE: CNA 8 Hour Class
ATTACH;FMTTYPE=image/png:https://www.alphafirstmed.com/wp-content/uploads/2022/12/eafe72_f4f8a80bb2e24e8dbed7102710a71cea_mv2.png
ORGANIZER;CN="Alpha First Medical Academy":MAILTO:info@alphafirstmed.com
END:VEVENT
BEGIN:VEVENT
DTSTART;TZID=America/Los_Angeles:20260109T100000
DTEND;TZID=America/Los_Angeles:20260109T180000
DTSTAMP:20260425T113853
CREATED:20251221T222032Z
LAST-MODIFIED:20251221T222032Z
UID:1765-1767952800-1767981600@www.alphafirstmed.com
SUMMARY:CE: CNA 8 Hour CEU Credit
DESCRIPTION:Topics: Body Mechanics: positioning and lifting for CNAs\, preventing pressure injuries\, caring for a patient with pressure injuries\, preventing skin breakdown\, prevention devices for skin breakdown
URL:https://www.alphafirstmed.com/event/ce-cna-8-hour-ceu-credit-103/
LOCATION:Petaluma California – Alpha First Medical Academy\, 1129 Industrial Avenue\, Suite #207\, Petaluma\, CA 94952
CATEGORIES:CE: CNA 8 Hour Class
ATTACH;FMTTYPE=image/png:https://www.alphafirstmed.com/wp-content/uploads/2022/12/eafe72_f4f8a80bb2e24e8dbed7102710a71cea_mv2.png
ORGANIZER;CN="Alpha First Medical Academy":MAILTO:info@alphafirstmed.com
END:VEVENT
BEGIN:VEVENT
DTSTART;TZID=America/Los_Angeles:20260108T100000
DTEND;TZID=America/Los_Angeles:20260108T180000
DTSTAMP:20260425T113853
CREATED:20251221T221901Z
LAST-MODIFIED:20251221T221901Z
UID:1763-1767866400-1767895200@www.alphafirstmed.com
SUMMARY:CE: CNA 8 Hour CEU Credit
DESCRIPTION:Topics: Feeding Techniques for CNAs\, Review of the metric system pertaining to CNAs\, Vital Signs Review and Overview\, Nutrition review for the geriatric patient\, nutrition and flid review for all patients
URL:https://www.alphafirstmed.com/event/ce-cna-8-hour-ceu-credit-102/
LOCATION:Petaluma California – Alpha First Medical Academy\, 1129 Industrial Avenue\, Suite #207\, Petaluma\, CA 94952
CATEGORIES:CE: CNA 8 Hour Class
ATTACH;FMTTYPE=image/png:https://www.alphafirstmed.com/wp-content/uploads/2022/12/eafe72_f4f8a80bb2e24e8dbed7102710a71cea_mv2.png
ORGANIZER;CN="Alpha First Medical Academy":MAILTO:info@alphafirstmed.com
END:VEVENT
BEGIN:VEVENT
DTSTART;TZID=America/Los_Angeles:20260107T100000
DTEND;TZID=America/Los_Angeles:20260107T180000
DTSTAMP:20260425T113853
CREATED:20251221T221653Z
LAST-MODIFIED:20251221T221653Z
UID:1761-1767780000-1767808800@www.alphafirstmed.com
SUMMARY:CE: CNA 8 Hour CEU Credit
DESCRIPTION:Topics: Patient’s Rights: title 22\, Resident’s Rights: Privacy for CNAs\, Resident’s Rights: Right’s Violations\, Resident’s Rights: confidentiality for CNAs\, Mandated Reporting for CNAs\, Abuse prevention in LTC
URL:https://www.alphafirstmed.com/event/ce-cna-8-hour-ceu-credit-101/
LOCATION:Petaluma California – Alpha First Medical Academy\, 1129 Industrial Avenue\, Suite #207\, Petaluma\, CA 94952
CATEGORIES:CE: CNA 8 Hour Class
ATTACH;FMTTYPE=image/png:https://www.alphafirstmed.com/wp-content/uploads/2022/12/eafe72_f4f8a80bb2e24e8dbed7102710a71cea_mv2.png
ORGANIZER;CN="Alpha First Medical Academy":MAILTO:info@alphafirstmed.com
END:VEVENT
BEGIN:VEVENT
DTSTART;TZID=America/Los_Angeles:20260106T100000
DTEND;TZID=America/Los_Angeles:20260106T180000
DTSTAMP:20260425T113853
CREATED:20251221T221414Z
LAST-MODIFIED:20251221T221414Z
UID:1759-1767693600-1767722400@www.alphafirstmed.com
SUMMARY:CE: CNA 8 Hour CEU Credit
DESCRIPTION:Topics: Handwashing\, donning and doffing PPE\, infection control: influenza\, infection control: c-diff contact precautions\, infection control: blood borne pathogens\, infection control: COVID 19\, infection control: chain of infection\, infection control: drug resistant bacteria
URL:https://www.alphafirstmed.com/event/ce-cna-8-hour-ceu-credit-100/
LOCATION:Petaluma California – Alpha First Medical Academy\, 1129 Industrial Avenue\, Suite #207\, Petaluma\, CA 94952
CATEGORIES:CE: CNA 8 Hour Class
ATTACH;FMTTYPE=image/png:https://www.alphafirstmed.com/wp-content/uploads/2022/12/eafe72_f4f8a80bb2e24e8dbed7102710a71cea_mv2.png
ORGANIZER;CN="Alpha First Medical Academy":MAILTO:info@alphafirstmed.com
END:VEVENT
BEGIN:VEVENT
DTSTART;TZID=America/Los_Angeles:20251217T100000
DTEND;TZID=America/Los_Angeles:20251217T180000
DTSTAMP:20260425T113853
CREATED:20251113T224527Z
LAST-MODIFIED:20251113T224527Z
UID:1658-1765965600-1765994400@www.alphafirstmed.com
SUMMARY:CE: CNA 8 Hour CEU Credit
DESCRIPTION:Topics: Alarm Fatigue\, Fall prevention and decreasing use of alarms\, HIPPA\, Effects of Chronic stress on the body and mind
URL:https://www.alphafirstmed.com/event/ce-cna-8-hour-ceu-credit-99/
LOCATION:Petaluma California – Alpha First Medical Academy\, 1129 Industrial Avenue\, Suite #207\, Petaluma\, CA 94952
CATEGORIES:CE: CNA 8 Hour Class
ATTACH;FMTTYPE=image/png:https://www.alphafirstmed.com/wp-content/uploads/2022/12/eafe72_f4f8a80bb2e24e8dbed7102710a71cea_mv2.png
ORGANIZER;CN="Alpha First Medical Academy":MAILTO:info@alphafirstmed.com
END:VEVENT
BEGIN:VEVENT
DTSTART;TZID=America/Los_Angeles:20251216T100000
DTEND;TZID=America/Los_Angeles:20251216T180000
DTSTAMP:20260425T113853
CREATED:20251113T224423Z
LAST-MODIFIED:20251113T224423Z
UID:1657-1765879200-1765908000@www.alphafirstmed.com
SUMMARY:CE: CNA 8 Hour CEU Credit
DESCRIPTION:Topics: Alzheimer’s and dementia care overview\, caring for a dying patient \n 
URL:https://www.alphafirstmed.com/event/ce-cna-8-hour-ceu-credit-98/
LOCATION:Petaluma California – Alpha First Medical Academy\, 1129 Industrial Avenue\, Suite #207\, Petaluma\, CA 94952
CATEGORIES:CE: CNA 8 Hour Class
ATTACH;FMTTYPE=image/png:https://www.alphafirstmed.com/wp-content/uploads/2022/12/eafe72_f4f8a80bb2e24e8dbed7102710a71cea_mv2.png
ORGANIZER;CN="Alpha First Medical Academy":MAILTO:info@alphafirstmed.com
END:VEVENT
BEGIN:VEVENT
DTSTART;TZID=America/Los_Angeles:20251215T100000
DTEND;TZID=America/Los_Angeles:20251215T180000
DTSTAMP:20260425T113853
CREATED:20251113T224314Z
LAST-MODIFIED:20251113T224314Z
UID:1656-1765792800-1765821600@www.alphafirstmed.com
SUMMARY:CE: CNA 8 Hour CEU Credit
DESCRIPTION:Topics: Sepsis overview\, LGBTQ+ sensitivity training \n 
URL:https://www.alphafirstmed.com/event/ce-cna-8-hour-ceu-credit-97/
LOCATION:Petaluma California – Alpha First Medical Academy\, 1129 Industrial Avenue\, Suite #207\, Petaluma\, CA 94952
CATEGORIES:CE: CNA 8 Hour Class
ATTACH;FMTTYPE=image/png:https://www.alphafirstmed.com/wp-content/uploads/2022/12/eafe72_f4f8a80bb2e24e8dbed7102710a71cea_mv2.png
ORGANIZER;CN="Alpha First Medical Academy":MAILTO:info@alphafirstmed.com
END:VEVENT
BEGIN:VEVENT
DTSTART;TZID=America/Los_Angeles:20251211T100000
DTEND;TZID=America/Los_Angeles:20251211T180000
DTSTAMP:20260425T113853
CREATED:20251113T224135Z
LAST-MODIFIED:20251113T224135Z
UID:1655-1765447200-1765476000@www.alphafirstmed.com
SUMMARY:CE: CNA 8 Hour CEU Credit
DESCRIPTION:Topics: Change of Condition\, ADL documentation\, accurate documentation of meal intake/percentage\, care plan review pertaining to CNAs
URL:https://www.alphafirstmed.com/event/ce-cna-8-hour-ceu-credit-96/
LOCATION:Petaluma California – Alpha First Medical Academy\, 1129 Industrial Avenue\, Suite #207\, Petaluma\, CA 94952
CATEGORIES:CE: CNA 8 Hour Class
ATTACH;FMTTYPE=image/png:https://www.alphafirstmed.com/wp-content/uploads/2022/12/eafe72_f4f8a80bb2e24e8dbed7102710a71cea_mv2.png
ORGANIZER;CN="Alpha First Medical Academy":MAILTO:info@alphafirstmed.com
END:VEVENT
BEGIN:VEVENT
DTSTART;TZID=America/Los_Angeles:20251210T100000
DTEND;TZID=America/Los_Angeles:20251210T180000
DTSTAMP:20260425T113853
CREATED:20251113T224018Z
LAST-MODIFIED:20251113T224018Z
UID:1654-1765360800-1765389600@www.alphafirstmed.com
SUMMARY:CE: CNA 8 Hour CEU Credit
DESCRIPTION:Topics: Body Mechanics: positioning and lifting for CNAs\, preventing pressure injuries\, caring for a patient with pressure injuries\, preventing skin breakdown\, prevention devices for skin breakdown
URL:https://www.alphafirstmed.com/event/ce-cna-8-hour-ceu-credit-95/
LOCATION:Petaluma California – Alpha First Medical Academy\, 1129 Industrial Avenue\, Suite #207\, Petaluma\, CA 94952
CATEGORIES:CE: CNA 8 Hour Class
ATTACH;FMTTYPE=image/png:https://www.alphafirstmed.com/wp-content/uploads/2022/12/eafe72_f4f8a80bb2e24e8dbed7102710a71cea_mv2.png
ORGANIZER;CN="Alpha First Medical Academy":MAILTO:info@alphafirstmed.com
END:VEVENT
BEGIN:VEVENT
DTSTART;TZID=America/Los_Angeles:20251112T100000
DTEND;TZID=America/Los_Angeles:20251112T180000
DTSTAMP:20260425T113853
CREATED:20251029T225502Z
LAST-MODIFIED:20251029T225502Z
UID:1630-1762941600-1762970400@www.alphafirstmed.com
SUMMARY:CE: CNA 8 Hour CEU Credit
DESCRIPTION:Topics: Alzheimer’s and dementia care overview\, caring for a dying patient
URL:https://www.alphafirstmed.com/event/ce-cna-8-hour-ceu-credit-93/
LOCATION:Petaluma California – Alpha First Medical Academy\, 1129 Industrial Avenue\, Suite #207\, Petaluma\, CA 94952
CATEGORIES:CE: CNA 8 Hour Class
ATTACH;FMTTYPE=image/png:https://www.alphafirstmed.com/wp-content/uploads/2022/12/eafe72_f4f8a80bb2e24e8dbed7102710a71cea_mv2.png
ORGANIZER;CN="Alpha First Medical Academy":MAILTO:info@alphafirstmed.com
END:VEVENT
BEGIN:VEVENT
DTSTART;TZID=America/Los_Angeles:20251111T100000
DTEND;TZID=America/Los_Angeles:20251111T180000
DTSTAMP:20260425T113853
CREATED:20251029T225356Z
LAST-MODIFIED:20251029T225356Z
UID:1629-1762855200-1762884000@www.alphafirstmed.com
SUMMARY:CE: CNA 8 Hour CEU Credit
DESCRIPTION:Topics: Body Mechanics: positioning and lifting for CNAs\, preventing pressure injuries\, caring for a patient with pressure injuries\, preventing skin breakdown\, prevention devices for skin breakdown \n 
URL:https://www.alphafirstmed.com/event/ce-cna-8-hour-ceu-credit-92/
LOCATION:Petaluma California – Alpha First Medical Academy\, 1129 Industrial Avenue\, Suite #207\, Petaluma\, CA 94952
CATEGORIES:CE: CNA 8 Hour Class
ATTACH;FMTTYPE=image/png:https://www.alphafirstmed.com/wp-content/uploads/2022/12/eafe72_f4f8a80bb2e24e8dbed7102710a71cea_mv2.png
ORGANIZER;CN="Alpha First Medical Academy":MAILTO:info@alphafirstmed.com
END:VEVENT
BEGIN:VEVENT
DTSTART;TZID=America/Los_Angeles:20251107T100000
DTEND;TZID=America/Los_Angeles:20251107T180000
DTSTAMP:20260425T113853
CREATED:20251029T225236Z
LAST-MODIFIED:20251029T225236Z
UID:1628-1762509600-1762538400@www.alphafirstmed.com
SUMMARY:CE: CNA 8 Hour CEU Credit
DESCRIPTION:Topics: Bathing with dignity for CNAs\, prevention of urinary tract infections\, care of patient’s with UTIs\, foley care
URL:https://www.alphafirstmed.com/event/ce-cna-8-hour-ceu-credit-91/
LOCATION:Petaluma California – Alpha First Medical Academy\, 1129 Industrial Avenue\, Suite #207\, Petaluma\, CA 94952
CATEGORIES:CE: CNA 8 Hour Class
ATTACH;FMTTYPE=image/png:https://www.alphafirstmed.com/wp-content/uploads/2022/12/eafe72_f4f8a80bb2e24e8dbed7102710a71cea_mv2.png
ORGANIZER;CN="Alpha First Medical Academy":MAILTO:info@alphafirstmed.com
END:VEVENT
BEGIN:VEVENT
DTSTART;TZID=America/Los_Angeles:20251106T100000
DTEND;TZID=America/Los_Angeles:20251106T180000
DTSTAMP:20260425T113853
CREATED:20251029T225136Z
LAST-MODIFIED:20251029T225136Z
UID:1627-1762423200-1762452000@www.alphafirstmed.com
SUMMARY:CE: CNA 8 Hour CEU Credit
DESCRIPTION:Topics: Patient’s Rights: title 22\, Resident’s Rights: Privacy for CNAs\, Resident’s Rights: Right’s Violations\, Resident’s Rights: confidentiality for CNAs\, Mandated Reporting for CNAs\, Abuse prevention in LTC
URL:https://www.alphafirstmed.com/event/ce-cna-8-hour-ceu-credit-90/
LOCATION:Petaluma California – Alpha First Medical Academy\, 1129 Industrial Avenue\, Suite #207\, Petaluma\, CA 94952
CATEGORIES:CE: CNA 8 Hour Class
ATTACH;FMTTYPE=image/png:https://www.alphafirstmed.com/wp-content/uploads/2022/12/eafe72_f4f8a80bb2e24e8dbed7102710a71cea_mv2.png
ORGANIZER;CN="Alpha First Medical Academy":MAILTO:info@alphafirstmed.com
END:VEVENT
BEGIN:VEVENT
DTSTART;TZID=America/Los_Angeles:20251105T100000
DTEND;TZID=America/Los_Angeles:20251105T180000
DTSTAMP:20260425T113853
CREATED:20251029T221744Z
LAST-MODIFIED:20251029T221744Z
UID:1626-1762336800-1762365600@www.alphafirstmed.com
SUMMARY:CE: CNA 8 Hour CEU Credit
DESCRIPTION:Topics: Change of Condition\, ADL documentation\, accurate documentation of meal intake/percentage\, care plan review pertaining to CNAs
URL:https://www.alphafirstmed.com/event/ce-cna-8-hour-ceu-credit-89/
LOCATION:Petaluma California – Alpha First Medical Academy\, 1129 Industrial Avenue\, Suite #207\, Petaluma\, CA 94952
CATEGORIES:CE: CNA 8 Hour Class
ATTACH;FMTTYPE=image/png:https://www.alphafirstmed.com/wp-content/uploads/2022/12/eafe72_f4f8a80bb2e24e8dbed7102710a71cea_mv2.png
ORGANIZER;CN="Alpha First Medical Academy":MAILTO:info@alphafirstmed.com
END:VEVENT
BEGIN:VEVENT
DTSTART;TZID=America/Los_Angeles:20251104T100000
DTEND;TZID=America/Los_Angeles:20251104T180000
DTSTAMP:20260425T113853
CREATED:20251029T221612Z
LAST-MODIFIED:20251029T221612Z
UID:1625-1762250400-1762279200@www.alphafirstmed.com
SUMMARY:CE: CNA 8 Hour CEU Credit
DESCRIPTION:Topics: Handwashing\, donning and doffing PPE\, infection control: influenza\, infection control: c-diff contact precautions\, infection control: blood borne pathogens\, infection control: COVID 19\, infection control: chain of infection\, infection control: drug resistant bacteria
URL:https://www.alphafirstmed.com/event/ce-cna-8-hour-ceu-credit-88/
LOCATION:Petaluma California – Alpha First Medical Academy\, 1129 Industrial Avenue\, Suite #207\, Petaluma\, CA 94952
CATEGORIES:CE: CNA 8 Hour Class
ATTACH;FMTTYPE=image/png:https://www.alphafirstmed.com/wp-content/uploads/2022/12/eafe72_f4f8a80bb2e24e8dbed7102710a71cea_mv2.png
ORGANIZER;CN="Alpha First Medical Academy":MAILTO:info@alphafirstmed.com
END:VEVENT
BEGIN:VEVENT
DTSTART;TZID=America/Los_Angeles:20251025T100000
DTEND;TZID=America/Los_Angeles:20251025T180000
DTSTAMP:20260425T113853
CREATED:20250915T222200Z
LAST-MODIFIED:20250915T222200Z
UID:1558-1761386400-1761415200@www.alphafirstmed.com
SUMMARY:CE: CNA 8 Hour CEU Credit
DESCRIPTION:Topics: Animal Therapy for healing\, Preventing Caregiver Burnout\, Workplace bullying in Healthcare
URL:https://www.alphafirstmed.com/event/ce-cna-8-hour-ceu-credit-87/
LOCATION:Petaluma California – Alpha First Medical Academy\, 1129 Industrial Avenue\, Suite #207\, Petaluma\, CA 94952
CATEGORIES:CE: CNA 8 Hour Class
ATTACH;FMTTYPE=image/png:https://www.alphafirstmed.com/wp-content/uploads/2022/12/eafe72_f4f8a80bb2e24e8dbed7102710a71cea_mv2.png
ORGANIZER;CN="Alpha First Medical Academy":MAILTO:info@alphafirstmed.com
END:VEVENT
BEGIN:VEVENT
DTSTART;TZID=America/Los_Angeles:20251019T100000
DTEND;TZID=America/Los_Angeles:20251019T180000
DTSTAMP:20260425T113853
CREATED:20250915T221900Z
LAST-MODIFIED:20250915T222041Z
UID:1557-1760868000-1760896800@www.alphafirstmed.com
SUMMARY:CE: CNA 8 Hour CEU Credit
DESCRIPTION:Topics: Alarm Fatigue\, Fall prevention and decreasing use of alarms\, HIPPA\, Effects of Chronic stress on the body and mind
URL:https://www.alphafirstmed.com/event/ce-cna-8-hour-ceu-credit-86/
LOCATION:Petaluma California – Alpha First Medical Academy\, 1129 Industrial Avenue\, Suite #207\, Petaluma\, CA 94952
CATEGORIES:CE: CNA 8 Hour Class
ATTACH;FMTTYPE=image/png:https://www.alphafirstmed.com/wp-content/uploads/2022/12/eafe72_f4f8a80bb2e24e8dbed7102710a71cea_mv2.png
ORGANIZER;CN="Alpha First Medical Academy":MAILTO:info@alphafirstmed.com
END:VEVENT
BEGIN:VEVENT
DTSTART;TZID=America/Los_Angeles:20251012T100000
DTEND;TZID=America/Los_Angeles:20251012T180000
DTSTAMP:20260425T113853
CREATED:20250915T221650Z
LAST-MODIFIED:20250915T221650Z
UID:1556-1760263200-1760292000@www.alphafirstmed.com
SUMMARY:CE: CNA 8 Hour CEU Credit
DESCRIPTION:Topics: Interpersonal skills review pertaining to CNAs\, effective communication with CNA and resident\, effective communication with CNA and nurse\, pain management: non-pharmacological interventions\, pain management: acute vs chronic pain\, pain management: reporting pain to nurse
URL:https://www.alphafirstmed.com/event/ce-cna-8-hour-ceu-credit-85/
LOCATION:Petaluma California – Alpha First Medical Academy\, 1129 Industrial Avenue\, Suite #207\, Petaluma\, CA 94952
CATEGORIES:CE: CNA 8 Hour Class
ATTACH;FMTTYPE=image/png:https://www.alphafirstmed.com/wp-content/uploads/2022/12/eafe72_f4f8a80bb2e24e8dbed7102710a71cea_mv2.png
ORGANIZER;CN="Alpha First Medical Academy":MAILTO:info@alphafirstmed.com
END:VEVENT
BEGIN:VEVENT
DTSTART;TZID=America/Los_Angeles:20251011T100000
DTEND;TZID=America/Los_Angeles:20251011T180000
DTSTAMP:20260425T113853
CREATED:20250915T221458Z
LAST-MODIFIED:20250915T221558Z
UID:1555-1760176800-1760205600@www.alphafirstmed.com
SUMMARY:CE: CNA 8 Hour CEU Credit
DESCRIPTION:Topics: Change of Condition\, ADL documentation\, accurate documentation of meal intake/percentage\, care plan review pertaining to CNAs
URL:https://www.alphafirstmed.com/event/ce-cna-8-hour-ceu-credit-84/
LOCATION:Petaluma California – Alpha First Medical Academy\, 1129 Industrial Avenue\, Suite #207\, Petaluma\, CA 94952
CATEGORIES:CE: CNA 8 Hour Class
ATTACH;FMTTYPE=image/png:https://www.alphafirstmed.com/wp-content/uploads/2022/12/eafe72_f4f8a80bb2e24e8dbed7102710a71cea_mv2.png
ORGANIZER;CN="Alpha First Medical Academy":MAILTO:info@alphafirstmed.com
END:VEVENT
BEGIN:VEVENT
DTSTART;TZID=America/Los_Angeles:20251010T100000
DTEND;TZID=America/Los_Angeles:20251010T180000
DTSTAMP:20260425T113853
CREATED:20250915T221402Z
LAST-MODIFIED:20250915T221402Z
UID:1554-1760090400-1760119200@www.alphafirstmed.com
SUMMARY:CE: CNA 8 Hour CEU Credit
DESCRIPTION:Topics: Body Mechanics: positioning and lifting for CNAs\, preventing pressure injuries\, caring for a patient with pressure injuries\, preventing skin breakdown\, prevention devices for skin breakdown
URL:https://www.alphafirstmed.com/event/ce-cna-8-hour-ceu-credit-83/
LOCATION:Petaluma California – Alpha First Medical Academy\, 1129 Industrial Avenue\, Suite #207\, Petaluma\, CA 94952
CATEGORIES:CE: CNA 8 Hour Class
ATTACH;FMTTYPE=image/png:https://www.alphafirstmed.com/wp-content/uploads/2022/12/eafe72_f4f8a80bb2e24e8dbed7102710a71cea_mv2.png
ORGANIZER;CN="Alpha First Medical Academy":MAILTO:info@alphafirstmed.com
END:VEVENT
BEGIN:VEVENT
DTSTART;TZID=America/Los_Angeles:20251009T100000
DTEND;TZID=America/Los_Angeles:20251009T180000
DTSTAMP:20260425T113853
CREATED:20250915T221257Z
LAST-MODIFIED:20250915T221257Z
UID:1553-1760004000-1760032800@www.alphafirstmed.com
SUMMARY:CE: CNA 8 Hour CEU Credit
DESCRIPTION:Topics: Feeding Techniques for CNAs\, Review of the metric system pertaining to CNAs\, Vital Signs Review and Overview\, Nutrition review for the geriatric patient\, nutrition and flid review for all patients
URL:https://www.alphafirstmed.com/event/ce-cna-8-hour-ceu-credit-82/
LOCATION:Petaluma California – Alpha First Medical Academy\, 1129 Industrial Avenue\, Suite #207\, Petaluma\, CA 94952
CATEGORIES:CE: CNA 8 Hour Class
ATTACH;FMTTYPE=image/png:https://www.alphafirstmed.com/wp-content/uploads/2022/12/eafe72_f4f8a80bb2e24e8dbed7102710a71cea_mv2.png
ORGANIZER;CN="Alpha First Medical Academy":MAILTO:info@alphafirstmed.com
END:VEVENT
BEGIN:VEVENT
DTSTART;TZID=America/Los_Angeles:20251007T100000
DTEND;TZID=America/Los_Angeles:20251007T180000
DTSTAMP:20260425T113853
CREATED:20250915T221136Z
LAST-MODIFIED:20250915T221136Z
UID:1552-1759831200-1759860000@www.alphafirstmed.com
SUMMARY:CE: CNA 8 Hour CEU Credit
DESCRIPTION:Topics: Patient’s Rights: title 22\, Resident’s Rights: Privacy for CNAs\, Resident’s Rights: Right’s Violations\, Resident’s Rights: confidentiality for CNAs\, Mandated Reporting for CNAs\, Abuse prevention in LTC
URL:https://www.alphafirstmed.com/event/ce-cna-8-hour-ceu-credit-81/
LOCATION:Petaluma California – Alpha First Medical Academy\, 1129 Industrial Avenue\, Suite #207\, Petaluma\, CA 94952
CATEGORIES:CE: CNA 8 Hour Class
ATTACH;FMTTYPE=image/png:https://www.alphafirstmed.com/wp-content/uploads/2022/12/eafe72_f4f8a80bb2e24e8dbed7102710a71cea_mv2.png
ORGANIZER;CN="Alpha First Medical Academy":MAILTO:info@alphafirstmed.com
END:VEVENT
BEGIN:VEVENT
DTSTART;TZID=America/Los_Angeles:20251005T100000
DTEND;TZID=America/Los_Angeles:20251005T180000
DTSTAMP:20260425T113853
CREATED:20250915T221003Z
LAST-MODIFIED:20250915T221003Z
UID:1551-1759658400-1759687200@www.alphafirstmed.com
SUMMARY:CE: CNA 8 Hour CEU Credit
DESCRIPTION:Topics: Handwashing\, donning and doffing PPE\, infection control: influenza\, infection control: c-diff contact precautions\, infection control: blood borne pathogens\, infection control: COVID 19\, infection control: chain of infection\, infection control: drug resistant bacteria
URL:https://www.alphafirstmed.com/event/ce-cna-8-hour-ceu-credit-80/
LOCATION:Petaluma California – Alpha First Medical Academy\, 1129 Industrial Avenue\, Suite #207\, Petaluma\, CA 94952
CATEGORIES:CE: CNA 8 Hour Class
ATTACH;FMTTYPE=image/png:https://www.alphafirstmed.com/wp-content/uploads/2022/12/eafe72_f4f8a80bb2e24e8dbed7102710a71cea_mv2.png
ORGANIZER;CN="Alpha First Medical Academy":MAILTO:info@alphafirstmed.com
END:VEVENT
BEGIN:VEVENT
DTSTART;TZID=America/Los_Angeles:20250909T100000
DTEND;TZID=America/Los_Angeles:20250909T180000
DTSTAMP:20260425T113853
CREATED:20250821T224306Z
LAST-MODIFIED:20250904T200522Z
UID:1503-1757412000-1757440800@www.alphafirstmed.com
SUMMARY:CE: CNA 8 Hour CEU Credit
DESCRIPTION:Topics: Alzheimer’s and dementia care overview\, caring for a dying patient
URL:https://www.alphafirstmed.com/event/ce-cna-8-hour-ceu-credit-78/
LOCATION:Petaluma California – Alpha First Medical Academy\, 1129 Industrial Avenue\, Suite #207\, Petaluma\, CA 94952
CATEGORIES:CE: CNA 8 Hour Class
ATTACH;FMTTYPE=image/png:https://www.alphafirstmed.com/wp-content/uploads/2022/12/eafe72_f4f8a80bb2e24e8dbed7102710a71cea_mv2.png
ORGANIZER;CN="Alpha First Medical Academy":MAILTO:info@alphafirstmed.com
END:VEVENT
BEGIN:VEVENT
DTSTART;TZID=America/Los_Angeles:20250908T100000
DTEND;TZID=America/Los_Angeles:20250908T180000
DTSTAMP:20260425T113853
CREATED:20250821T224307Z
LAST-MODIFIED:20250904T200520Z
UID:1502-1757325600-1757354400@www.alphafirstmed.com
SUMMARY:CE: CNA 8 Hour CEU Credit
DESCRIPTION:Topics: Bathing with dignity for CNAs\, prevention of urinary tract infections\, care of patient’s with UTIs\, foley care
URL:https://www.alphafirstmed.com/event/ce-cna-8-hour-ceu-credit-79/
LOCATION:Petaluma California – Alpha First Medical Academy\, 1129 Industrial Avenue\, Suite #207\, Petaluma\, CA 94952
CATEGORIES:CE: CNA 8 Hour Class
ATTACH;FMTTYPE=image/png:https://www.alphafirstmed.com/wp-content/uploads/2022/12/eafe72_f4f8a80bb2e24e8dbed7102710a71cea_mv2.png
ORGANIZER;CN="Alpha First Medical Academy":MAILTO:info@alphafirstmed.com
END:VEVENT
BEGIN:VEVENT
DTSTART;TZID=America/Los_Angeles:20250905T100000
DTEND;TZID=America/Los_Angeles:20250905T180000
DTSTAMP:20260425T113853
CREATED:20250821T224150Z
LAST-MODIFIED:20250904T200520Z
UID:1501-1757066400-1757095200@www.alphafirstmed.com
SUMMARY:CE: CNA 8 Hour CEU Credit
DESCRIPTION:Topics: Change of Condition\, ADL documentation\, accurate documentation of meal intake/percentage\, care plan review pertaining to CNAs
URL:https://www.alphafirstmed.com/event/ce-cna-8-hour-ceu-credit-77/
LOCATION:Petaluma California – Alpha First Medical Academy\, 1129 Industrial Avenue\, Suite #207\, Petaluma\, CA 94952
CATEGORIES:CE: CNA 8 Hour Class
ATTACH;FMTTYPE=image/png:https://www.alphafirstmed.com/wp-content/uploads/2022/12/eafe72_f4f8a80bb2e24e8dbed7102710a71cea_mv2.png
ORGANIZER;CN="Alpha First Medical Academy":MAILTO:info@alphafirstmed.com
END:VEVENT
BEGIN:VEVENT
DTSTART;TZID=America/Los_Angeles:20250904T100000
DTEND;TZID=America/Los_Angeles:20250904T180000
DTSTAMP:20260425T113853
CREATED:20250821T223959Z
LAST-MODIFIED:20250904T200522Z
UID:1500-1756980000-1757008800@www.alphafirstmed.com
SUMMARY:CE: CNA 8 Hour CEU Credit
DESCRIPTION:Topics: Patient’s Rights: title 22\, Resident’s Rights: Privacy for CNAs\, Resident’s Rights: Right’s Violations\, Resident’s Rights: confidentiality for CNAs\, Mandated Reporting for CNAs\, Abuse prevention in LTC
URL:https://www.alphafirstmed.com/event/ce-cna-8-hour-ceu-credit-76/
LOCATION:Petaluma California – Alpha First Medical Academy\, 1129 Industrial Avenue\, Suite #207\, Petaluma\, CA 94952
CATEGORIES:CE: CNA 8 Hour Class
ATTACH;FMTTYPE=image/png:https://www.alphafirstmed.com/wp-content/uploads/2022/12/eafe72_f4f8a80bb2e24e8dbed7102710a71cea_mv2.png
ORGANIZER;CN="Alpha First Medical Academy":MAILTO:info@alphafirstmed.com
END:VEVENT
END:VCALENDAR