BEGIN:VCALENDAR
VERSION:2.0
PRODID:-//Alpha First Medical Academy - ECPv6.15.20//NONSGML v1.0//EN
CALSCALE:GREGORIAN
METHOD:PUBLISH
X-WR-CALNAME:Alpha First Medical Academy
X-ORIGINAL-URL:https://www.alphafirstmed.com
X-WR-CALDESC:Events for Alpha First Medical Academy
REFRESH-INTERVAL;VALUE=DURATION:PT1H
X-Robots-Tag:noindex
X-PUBLISHED-TTL:PT1H
BEGIN:VTIMEZONE
TZID:America/Los_Angeles
BEGIN:DAYLIGHT
TZOFFSETFROM:-0800
TZOFFSETTO:-0700
TZNAME:PDT
DTSTART:20250309T100000
END:DAYLIGHT
BEGIN:STANDARD
TZOFFSETFROM:-0700
TZOFFSETTO:-0800
TZNAME:PST
DTSTART:20251102T090000
END:STANDARD
BEGIN:DAYLIGHT
TZOFFSETFROM:-0800
TZOFFSETTO:-0700
TZNAME:PDT
DTSTART:20260308T100000
END:DAYLIGHT
BEGIN:STANDARD
TZOFFSETFROM:-0700
TZOFFSETTO:-0800
TZNAME:PST
DTSTART:20261101T090000
END:STANDARD
BEGIN:DAYLIGHT
TZOFFSETFROM:-0800
TZOFFSETTO:-0700
TZNAME:PDT
DTSTART:20270314T100000
END:DAYLIGHT
BEGIN:STANDARD
TZOFFSETFROM:-0700
TZOFFSETTO:-0800
TZNAME:PST
DTSTART:20271107T090000
END:STANDARD
END:VTIMEZONE
BEGIN:VEVENT
DTSTART;VALUE=DATE:20260504
DTEND;VALUE=DATE:20260505
DTSTAMP:20260424T134942
CREATED:20260204T222759Z
LAST-MODIFIED:20260204T222759Z
UID:1932-1777852800-1777939199@www.alphafirstmed.com
SUMMARY:CNA School - Full-Time (Petaluma\, California)
DESCRIPTION:Date: May 4\, 2026- May 29\, 2026\nWine Country Hub: (orientation located in Petaluma\, California)\nFull Time (Monday thru Friday\, theory 9am-3pm\, clinicals 7am-3pm) \nA CNA is a certified nursing assistant. Certified nursing assistance assists in helping nurses care for residents and patients in skilled nursing\, long-term care\, within hospitals\, and in the home with home health. Certified nursing assistance provides dignified\, competent care to these residents. Being a CNA is the most rewarding career you can have as you get to help people\, bond with them\, and bring your caring hands into the lives of those who need it. \nNote: This course will be five weeks due to holidays. \n  \n 
URL:https://www.alphafirstmed.com/event/cna-school-full-time-petaluma-california-20/
LOCATION:Petaluma California – Alpha First Medical Academy\, 1129 Industrial Avenue\, Suite #207\, Petaluma\, CA 94952
CATEGORIES:CNA School
ATTACH;FMTTYPE=image/png:https://www.alphafirstmed.com/wp-content/uploads/2022/12/eafe72_f4f8a80bb2e24e8dbed7102710a71cea_mv2.png
ORGANIZER;CN="Alpha First Medical Academy":MAILTO:info@alphafirstmed.com
END:VEVENT
BEGIN:VEVENT
DTSTART;TZID=America/Los_Angeles:20260505T100000
DTEND;TZID=America/Los_Angeles:20260505T180000
DTSTAMP:20260424T134942
CREATED:20260416T221659Z
LAST-MODIFIED:20260416T221659Z
UID:2100-1777975200-1778004000@www.alphafirstmed.com
SUMMARY:CE: CNA 8 Hour CEU Credit
DESCRIPTION:Topics: Patient’s Rights: title 22\, Resident’s Rights: Privacy for CNAs\, Resident’s Rights: Right’s Violations\, Resident’s Rights: confidentiality for CNAs\, Mandated Reporting for CNAs\, Abuse prevention in LTC
URL:https://www.alphafirstmed.com/event/ce-cna-8-hour-ceu-credit-131/
LOCATION:Petaluma California – Alpha First Medical Academy\, 1129 Industrial Avenue\, Suite #207\, Petaluma\, CA 94952
CATEGORIES:CE: CNA 8 Hour Class
ATTACH;FMTTYPE=image/png:https://www.alphafirstmed.com/wp-content/uploads/2022/12/eafe72_f4f8a80bb2e24e8dbed7102710a71cea_mv2.png
ORGANIZER;CN="Alpha First Medical Academy":MAILTO:info@alphafirstmed.com
END:VEVENT
BEGIN:VEVENT
DTSTART;TZID=America/Los_Angeles:20260507T100000
DTEND;TZID=America/Los_Angeles:20260507T180000
DTSTAMP:20260424T134942
CREATED:20260416T221748Z
LAST-MODIFIED:20260416T221748Z
UID:2102-1778148000-1778176800@www.alphafirstmed.com
SUMMARY:CE: CNA 8 Hour CEU Credit
DESCRIPTION:Topics: Body Mechanics: positioning and lifting for CNAs\, preventing pressure injuries\, caring for a patient with pressure injuries\, preventing skin breakdown\, prevention devices for skin breakdown
URL:https://www.alphafirstmed.com/event/ce-cna-8-hour-ceu-credit-132/
LOCATION:Petaluma California – Alpha First Medical Academy\, 1129 Industrial Avenue\, Suite #207\, Petaluma\, CA 94952
CATEGORIES:CE: CNA 8 Hour Class
ATTACH;FMTTYPE=image/png:https://www.alphafirstmed.com/wp-content/uploads/2022/12/eafe72_f4f8a80bb2e24e8dbed7102710a71cea_mv2.png
ORGANIZER;CN="Alpha First Medical Academy":MAILTO:info@alphafirstmed.com
END:VEVENT
BEGIN:VEVENT
DTSTART;TZID=America/Los_Angeles:20260508T100000
DTEND;TZID=America/Los_Angeles:20260508T180000
DTSTAMP:20260424T134942
CREATED:20260416T221845Z
LAST-MODIFIED:20260416T221845Z
UID:2104-1778234400-1778263200@www.alphafirstmed.com
SUMMARY:CE: CNA 8 Hour CEU Credit
DESCRIPTION:Topics: Change of Condition\, ADL documentation\, accurate documentation of meal intake/percentage\, care plan review pertaining to CNAs
URL:https://www.alphafirstmed.com/event/ce-cna-8-hour-ceu-credit-133/
LOCATION:Petaluma California – Alpha First Medical Academy\, 1129 Industrial Avenue\, Suite #207\, Petaluma\, CA 94952
CATEGORIES:CE: CNA 8 Hour Class
ATTACH;FMTTYPE=image/png:https://www.alphafirstmed.com/wp-content/uploads/2022/12/eafe72_f4f8a80bb2e24e8dbed7102710a71cea_mv2.png
ORGANIZER;CN="Alpha First Medical Academy":MAILTO:info@alphafirstmed.com
END:VEVENT
BEGIN:VEVENT
DTSTART;TZID=America/Los_Angeles:20260511T100000
DTEND;TZID=America/Los_Angeles:20260511T180000
DTSTAMP:20260424T134942
CREATED:20260416T221943Z
LAST-MODIFIED:20260416T221943Z
UID:2106-1778493600-1778522400@www.alphafirstmed.com
SUMMARY:CE: CNA 8 Hour CEU Credit
DESCRIPTION:Topics: Bathing with dignity for CNAs\, prevention of urinary tract infections\, care of patient’s with UTIs\, foley care
URL:https://www.alphafirstmed.com/event/ce-cna-8-hour-ceu-credit-134/
LOCATION:Petaluma California – Alpha First Medical Academy\, 1129 Industrial Avenue\, Suite #207\, Petaluma\, CA 94952
CATEGORIES:CE: CNA 8 Hour Class
ATTACH;FMTTYPE=image/png:https://www.alphafirstmed.com/wp-content/uploads/2022/12/eafe72_f4f8a80bb2e24e8dbed7102710a71cea_mv2.png
ORGANIZER;CN="Alpha First Medical Academy":MAILTO:info@alphafirstmed.com
END:VEVENT
BEGIN:VEVENT
DTSTART;TZID=America/Los_Angeles:20260512T100000
DTEND;TZID=America/Los_Angeles:20260512T180000
DTSTAMP:20260424T134942
CREATED:20260416T222013Z
LAST-MODIFIED:20260416T222013Z
UID:2108-1778580000-1778608800@www.alphafirstmed.com
SUMMARY:CE: CNA 8 Hour CEU Credit
DESCRIPTION:Topics: Alarm Fatigue\, Fall prevention and decreasing use of alarms\, HIPPA\, Effects of Chronic stress on the body and mind
URL:https://www.alphafirstmed.com/event/ce-cna-8-hour-ceu-credit-135/
LOCATION:Petaluma California – Alpha First Medical Academy\, 1129 Industrial Avenue\, Suite #207\, Petaluma\, CA 94952
CATEGORIES:CE: CNA 8 Hour Class
ATTACH;FMTTYPE=image/png:https://www.alphafirstmed.com/wp-content/uploads/2022/12/eafe72_f4f8a80bb2e24e8dbed7102710a71cea_mv2.png
ORGANIZER;CN="Alpha First Medical Academy":MAILTO:info@alphafirstmed.com
END:VEVENT
BEGIN:VEVENT
DTSTART;VALUE=DATE:20260601
DTEND;VALUE=DATE:20260602
DTSTAMP:20260424T134942
CREATED:20251116T220041Z
LAST-MODIFIED:20260204T185453Z
UID:1683-1780272000-1780358399@www.alphafirstmed.com
SUMMARY:CNA School - Full-Time (Petaluma\, California)
DESCRIPTION:Date: June 1\, 2026- June 29\, 2026\nWine Country Hub: (orientation located in Petaluma\, California)\nFull Time (Monday thru Friday\, theory 9am-3pm\, clinicals 7am-3pm). \nA CNA is a certified nursing assistant. Certified nursing assistance assists in helping nurses care for residents and patients in skilled nursing\, long-term care\, within hospitals\, and in the home with home health. Certified nursing assistance provides dignified\, competent care to these residents. Being a CNA is the most rewarding career you can have as you get to help people\, bond with them\, and bring your caring hands into the lives of those who need it. \nNote: This course will be five weeks due to holidays. \n 
URL:https://www.alphafirstmed.com/event/cna-school-full-time-petaluma-california-17/
LOCATION:Petaluma California – Alpha First Medical Academy\, 1129 Industrial Avenue\, Suite #207\, Petaluma\, CA 94952
CATEGORIES:CNA School
ATTACH;FMTTYPE=image/png:https://www.alphafirstmed.com/wp-content/uploads/2022/12/eafe72_f4f8a80bb2e24e8dbed7102710a71cea_mv2.png
ORGANIZER;CN="Alpha First Medical Academy":MAILTO:info@alphafirstmed.com
END:VEVENT
BEGIN:VEVENT
DTSTART;TZID=America/Los_Angeles:20260611T120000
DTEND;TZID=America/Los_Angeles:20260611T170000
DTSTAMP:20260424T134942
CREATED:20260416T220633Z
LAST-MODIFIED:20260416T220633Z
UID:2098-1781179200-1781197200@www.alphafirstmed.com
SUMMARY:Home Health Aide (HHA) Program
DESCRIPTION:1/6: In person orientation at 12 pm \nSchedule to follow at orientation. Note\, our HHA scheduling is flexible and is great for all!
URL:https://www.alphafirstmed.com/event/home-health-aide-hha-program-12/
LOCATION:Petaluma California – Alpha First Medical Academy\, 1129 Industrial Avenue\, Suite #207\, Petaluma\, CA 94952
CATEGORIES:Home Health Aide
ATTACH;FMTTYPE=image/png:https://www.alphafirstmed.com/wp-content/uploads/2022/12/eafe72_f4f8a80bb2e24e8dbed7102710a71cea_mv2.png
ORGANIZER;CN="Alpha First Medical Academy":MAILTO:info@alphafirstmed.com
END:VEVENT
BEGIN:VEVENT
DTSTART;VALUE=DATE:20260615
DTEND;VALUE=DATE:20260616
DTSTAMP:20260424T134942
CREATED:20251116T220042Z
LAST-MODIFIED:20260204T185426Z
UID:1684-1781481600-1781567999@www.alphafirstmed.com
SUMMARY:CNA School - Full-Time (Petaluma\, California)
DESCRIPTION:Date: June 15\, 2026- July 10\, 2026\nWine Country Hub: (orientation located in Petaluma\, California)\nFull Time (Monday thru Friday\, theory 9am-3pm\, clinicals 7am-3pm) \nA CNA is a certified nursing assistant. Certified nursing assistance assists in helping nurses care for residents and patients in skilled nursing\, long-term care\, within hospitals\, and in the home with home health. Certified nursing assistance provides dignified\, competent care to these residents. Being a CNA is the most rewarding career you can have as you get to help people\, bond with them\, and bring your caring hands into the lives of those who need it. \nNote: This course will be five weeks due to holidays. \n 
URL:https://www.alphafirstmed.com/event/cna-school-full-time-petaluma-california-19/
LOCATION:Petaluma California – Alpha First Medical Academy\, 1129 Industrial Avenue\, Suite #207\, Petaluma\, CA 94952
CATEGORIES:CNA School
ATTACH;FMTTYPE=image/png:https://www.alphafirstmed.com/wp-content/uploads/2022/12/eafe72_f4f8a80bb2e24e8dbed7102710a71cea_mv2.png
ORGANIZER;CN="Alpha First Medical Academy":MAILTO:info@alphafirstmed.com
END:VEVENT
BEGIN:VEVENT
DTSTART;VALUE=DATE:20260620
DTEND;VALUE=DATE:20260621
DTSTAMP:20260424T134942
CREATED:20260330T223716Z
LAST-MODIFIED:20260330T223716Z
UID:2060-1781913600-1781999999@www.alphafirstmed.com
SUMMARY:CNA School - Part-Time (Petaluma\, California)
DESCRIPTION:Date: June 20th\, 2026- August 23rd\, 2026.\nWine Country Hub: (orientation located in Petaluma\, California)\nPart-Time (Saturday and Sunday only = 10 weeks\, theory 9am-3pm; clinicals 7am-3pm). \nA CNA is a certified nursing assistant. Certified nursing assistance assists in helping nurses care for residents and patients in skilled nursing\, long-term care\, within hospitals\, and in the home with home health. Certified nursing assistance provides dignified\, competent care to these residents. Being a CNA is the most rewarding career you can have as you get to help people\, bond with them\, and bring your caring hands into the lives of those who need it. \n 
URL:https://www.alphafirstmed.com/event/cna-school-part-time-petaluma-california-8/
LOCATION:Petaluma California – Alpha First Medical Academy\, 1129 Industrial Avenue\, Suite #207\, Petaluma\, CA 94952
CATEGORIES:CNA School
ATTACH;FMTTYPE=image/png:https://www.alphafirstmed.com/wp-content/uploads/2022/12/eafe72_f4f8a80bb2e24e8dbed7102710a71cea_mv2.png
ORGANIZER;CN="Alpha First Medical Academy":MAILTO:info@alphafirstmed.com
END:VEVENT
BEGIN:VEVENT
DTSTART;VALUE=DATE:20260706
DTEND;VALUE=DATE:20260707
DTSTAMP:20260424T134942
CREATED:20251116T220041Z
LAST-MODIFIED:20260204T185355Z
UID:1685-1783296000-1783382399@www.alphafirstmed.com
SUMMARY:CNA School - Full-Time (Petaluma\, California)
DESCRIPTION:Date: July 6\, 2026- July 31\, 2026\nWine Country Hub: (orientation located in Petaluma\, California)\nFull Time (Monday thru Friday\, theory 9am-3pm\, clinicals 7am-3pm) \nA CNA is a certified nursing assistant. Certified nursing assistance assists in helping nurses care for residents and patients in skilled nursing\, long-term care\, within hospitals\, and in the home with home health. Certified nursing assistance provides dignified\, competent care to these residents. Being a CNA is the most rewarding career you can have as you get to help people\, bond with them\, and bring your caring hands into the lives of those who need it. \nNote: This course will be five weeks due to holidays. \n  \n 
URL:https://www.alphafirstmed.com/event/cna-school-full-time-petaluma-california-18/
LOCATION:Petaluma California – Alpha First Medical Academy\, 1129 Industrial Avenue\, Suite #207\, Petaluma\, CA 94952
CATEGORIES:CNA School
ATTACH;FMTTYPE=image/png:https://www.alphafirstmed.com/wp-content/uploads/2022/12/eafe72_f4f8a80bb2e24e8dbed7102710a71cea_mv2.png
ORGANIZER;CN="Alpha First Medical Academy":MAILTO:info@alphafirstmed.com
END:VEVENT
END:VCALENDAR